BEGIN:VCALENDAR
VERSION:2.0
PRODID:-//Jews of Color Initiative - ECPv6.15.19//NONSGML v1.0//EN
CALSCALE:GREGORIAN
METHOD:PUBLISH
X-ORIGINAL-URL:https://thejoci.org
X-WR-CALDESC:Events for Jews of Color Initiative
REFRESH-INTERVAL;VALUE=DURATION:PT1H
X-Robots-Tag:noindex
X-PUBLISHED-TTL:PT1H
BEGIN:VTIMEZONE
TZID:America/Los_Angeles
BEGIN:DAYLIGHT
TZOFFSETFROM:-0800
TZOFFSETTO:-0700
TZNAME:PDT
DTSTART:20240310T100000
END:DAYLIGHT
BEGIN:STANDARD
TZOFFSETFROM:-0700
TZOFFSETTO:-0800
TZNAME:PST
DTSTART:20241103T090000
END:STANDARD
BEGIN:DAYLIGHT
TZOFFSETFROM:-0800
TZOFFSETTO:-0700
TZNAME:PDT
DTSTART:20250309T100000
END:DAYLIGHT
BEGIN:STANDARD
TZOFFSETFROM:-0700
TZOFFSETTO:-0800
TZNAME:PST
DTSTART:20251102T090000
END:STANDARD
BEGIN:DAYLIGHT
TZOFFSETFROM:-0800
TZOFFSETTO:-0700
TZNAME:PDT
DTSTART:20260308T100000
END:DAYLIGHT
BEGIN:STANDARD
TZOFFSETFROM:-0700
TZOFFSETTO:-0800
TZNAME:PST
DTSTART:20261101T090000
END:STANDARD
END:VTIMEZONE
BEGIN:VEVENT
DTSTART;TZID=America/Los_Angeles:20251203T173000
DTEND;TZID=America/Los_Angeles:20251203T203000
DTSTAMP:20260425T050450
CREATED:20251030T190717Z
LAST-MODIFIED:20260114T091547Z
UID:5541-1764783000-1764793800@thejoci.org
SUMMARY:The JoC Bay Area Pro Network Attends Rabbi Angela Buchdahl "Heart of A Stranger"
DESCRIPTION:Join the Bay Area JoC Pro Network community and the JoCI team for a gathering with Rabbi Angela Buchdahl\, the first East-Asian American rabbi and first woman congregational leader of Central Synagogue in NYC! We’ll begin with a brief JoC reception before the event at Temple Emanu-El in Presidio Heights to listen to Rabbi Angela discuss her new memoir\, “Heart of a Stranger: An Unlikely Rabbi’s Story of Faith\, Identity\, and Belonging\,” with Emanu-El’s Senior Rabbi\, Ryan Bauer.\n\nThe first 20 registrations will receive free tickets to the book discussion\, which include’s a copy of the Rabbi’s new book\, covered by the JoCI! Additional ticket purchases through our Bay Area Pro Network may use a discount code\, which will be provided to confirmed registrants.
URL:https://thejoci.org/event/the-joc-bay-area-pro-network-attends-rabbi-angela-buchdahl-heart-of-a-stranger/
CATEGORIES:Event Category
ATTACH;FMTTYPE=image/png:https://thejoci.org/wp-content/uploads/2025/10/Rabbi-Buchdahl-book-Bay-Area-Pro-Net-2.png
END:VEVENT
BEGIN:VEVENT
DTSTART;TZID=America/Los_Angeles:20251211T170000
DTEND;TZID=America/Los_Angeles:20251211T183000
DTSTAMP:20260425T050450
CREATED:20251107T174219Z
LAST-MODIFIED:20260114T091223Z
UID:5549-1765472400-1765477800@thejoci.org
SUMMARY:JoCI Listening Tour: PORTLAND\, OR
DESCRIPTION:The Jews of Color Initiative’s CEO\, Ilana Kaufman\, is visiting communities across the country for an interactive Listening Tour to engage in open dialogue with local leaders\, grantees\, partners\, and community members. Through these conversations\, JoCI aims to to listen deeply\, learn from local experiences\, and shape the next chapter of our work together. \nJoin us and be part of the conversation around Jews of Color in the United States on Thursday December 11 from 5-6:30PM in Portland\, OR. Location will be shared with confirmed registrants. \nEmail programs@thejoci.org to register! \nLearn more about the Listening Tour
URL:https://thejoci.org/event/joci-listening-tour-portland-or/
CATEGORIES:Event Category
ATTACH;FMTTYPE=image/png:https://thejoci.org/wp-content/uploads/2025/11/Portland-Listening-tour-feature-.png
END:VEVENT
END:VCALENDAR