BEGIN:VCALENDAR
VERSION:2.0
PRODID:-//Jews of Color Initiative - ECPv6.15.19//NONSGML v1.0//EN
CALSCALE:GREGORIAN
METHOD:PUBLISH
X-WR-CALNAME:Jews of Color Initiative
X-ORIGINAL-URL:https://thejoci.org
X-WR-CALDESC:Events for Jews of Color Initiative
REFRESH-INTERVAL;VALUE=DURATION:PT1H
X-Robots-Tag:noindex
X-PUBLISHED-TTL:PT1H
BEGIN:VTIMEZONE
TZID:America/New_York
BEGIN:DAYLIGHT
TZOFFSETFROM:-0500
TZOFFSETTO:-0400
TZNAME:EDT
DTSTART:20240310T070000
END:DAYLIGHT
BEGIN:STANDARD
TZOFFSETFROM:-0400
TZOFFSETTO:-0500
TZNAME:EST
DTSTART:20241103T060000
END:STANDARD
BEGIN:DAYLIGHT
TZOFFSETFROM:-0500
TZOFFSETTO:-0400
TZNAME:EDT
DTSTART:20250309T070000
END:DAYLIGHT
BEGIN:STANDARD
TZOFFSETFROM:-0400
TZOFFSETTO:-0500
TZNAME:EST
DTSTART:20251102T060000
END:STANDARD
BEGIN:DAYLIGHT
TZOFFSETFROM:-0500
TZOFFSETTO:-0400
TZNAME:EDT
DTSTART:20260308T070000
END:DAYLIGHT
BEGIN:STANDARD
TZOFFSETFROM:-0400
TZOFFSETTO:-0500
TZNAME:EST
DTSTART:20261101T060000
END:STANDARD
END:VTIMEZONE
BEGIN:VEVENT
DTSTART;TZID=America/New_York:20251113T180000
DTEND;TZID=America/New_York:20251113T200000
DTSTAMP:20260425T050219
CREATED:20250925T164203Z
LAST-MODIFIED:20251215T224250Z
UID:5468-1763056800-1763064000@thejoci.org
SUMMARY:NY Pro Network: A JoC Lens on Identity\, Purpose\, and Power
DESCRIPTION:Join us for an engaging panel discussion and interactive mini-workshop exploring leadership\, identity\, purpose\, and power through the lens of JoC leadership. Hear from Dr. Imani Chapman\, founder and director of imani strategies\, Maryam Chisti\, Co-Executive Director of LUNAR; and Arya Marvazy\, Senior Director of Programming at JoCI\, as they share personal stories and leadership journeys. Together\, we’ll explore how identity shapes leadership\, and how you can harness your own purpose and power to lead with intention and impact. \nAbout the Facilitators:\n \nDr. Imani Romney-Rosa Chapman\, the founder and director of imani strategies\, llc\, is a powerful\, dynamic\, faith-filled\, compassionate\, change leader for equity. She has more than 30 years of experience developing curriculum\, organizing\, and educating for social justice. As her name suggests\, Imani/Emunah [faith]\, her faith drives her to co-create brave and inclusive environments for learning\, growth and justice.  \nMaryam Chishti is the Co-Executive Director of The LUNAR Collective. She is interfaith\, with an Indian/Muslim father and Jewish American mother who raised her in both religions and cultures. Maryam is a graduate of the Ruskay Institute of Jewish Professional Leadership and the Jews of Color Initiative’s inaugural Leadership Fellowship. \nArya Marvazy is the Senior Director of Programs at the Jews of Color Initiative. A proud queer Jew\, Arya is deeply committed to empowering diverse Jewish identities\, fostering equitable communities\, and creating inclusive pathways for a thriving Jewish future. His dedication extends beyond his professional work—he has also served as a lay leader with organizations such as JDC Entwine\, JPro\, AJC\, Schusterman’s ROI community\, and more.
URL:https://thejoci.org/event/save-the-date-ny-pro-net/
CATEGORIES:Event Category
ATTACH;FMTTYPE=image/png:https://thejoci.org/wp-content/uploads/2025/09/v5-November-2025-NY-session-social-1.png
END:VEVENT
END:VCALENDAR