BEGIN:VCALENDAR
VERSION:2.0
PRODID:-//Jews of Color Initiative - ECPv6.15.19//NONSGML v1.0//EN
CALSCALE:GREGORIAN
METHOD:PUBLISH
X-WR-CALNAME:Jews of Color Initiative
X-ORIGINAL-URL:https://thejoci.org
X-WR-CALDESC:Events for Jews of Color Initiative
REFRESH-INTERVAL;VALUE=DURATION:PT1H
X-Robots-Tag:noindex
X-PUBLISHED-TTL:PT1H
BEGIN:VTIMEZONE
TZID:America/New_York
BEGIN:DAYLIGHT
TZOFFSETFROM:-0500
TZOFFSETTO:-0400
TZNAME:EDT
DTSTART:20240310T070000
END:DAYLIGHT
BEGIN:STANDARD
TZOFFSETFROM:-0400
TZOFFSETTO:-0500
TZNAME:EST
DTSTART:20241103T060000
END:STANDARD
BEGIN:DAYLIGHT
TZOFFSETFROM:-0500
TZOFFSETTO:-0400
TZNAME:EDT
DTSTART:20250309T070000
END:DAYLIGHT
BEGIN:STANDARD
TZOFFSETFROM:-0400
TZOFFSETTO:-0500
TZNAME:EST
DTSTART:20251102T060000
END:STANDARD
BEGIN:DAYLIGHT
TZOFFSETFROM:-0500
TZOFFSETTO:-0400
TZNAME:EDT
DTSTART:20260308T070000
END:DAYLIGHT
BEGIN:STANDARD
TZOFFSETFROM:-0400
TZOFFSETTO:-0500
TZNAME:EST
DTSTART:20261101T060000
END:STANDARD
END:VTIMEZONE
BEGIN:VEVENT
DTSTART;TZID=America/New_York:20250319T180000
DTEND;TZID=America/New_York:20250319T200000
DTSTAMP:20260419T054748
CREATED:20250227T154758Z
LAST-MODIFIED:20250227T154832Z
UID:5233-1742407200-1742414400@thejoci.org
SUMMARY:NY Pro Net\, March 19 - "Not So Minor Feelings" with Rabbi Becky Jaye
DESCRIPTION:What role can anger play in becoming an effective leader? How can processing our own feelings of anger shape our growth as community builders and leaders? Join the NY JoC Pro Network on March 19th as we explore examples of anger in the Tanakh alongside passages of Cathy Park Hong’s Minor Feelings: An Asian American Reckoning. In this session\, led by Rabbi Becky Jaye\, we will explore the potential of our anger to become holy and core to our missions to lead responsibly. \nThere are no requirements for your past or current professional experience — whatever stage you’re at\, we’d love to have you!
URL:https://thejoci.org/event/ny-pro-net-march-19-not-so-minor-feelings-with-rabbi-becky-jaye/
CATEGORIES:Event Category
ATTACH;FMTTYPE=image/png:https://thejoci.org/wp-content/uploads/2025/02/March-NY-Session-IG.png
END:VEVENT
END:VCALENDAR