BEGIN:VCALENDAR
VERSION:2.0
PRODID:-//Jews of Color Initiative - ECPv6.15.19//NONSGML v1.0//EN
CALSCALE:GREGORIAN
METHOD:PUBLISH
X-WR-CALNAME:Jews of Color Initiative
X-ORIGINAL-URL:https://thejoci.org
X-WR-CALDESC:Events for Jews of Color Initiative
REFRESH-INTERVAL;VALUE=DURATION:PT1H
X-Robots-Tag:noindex
X-PUBLISHED-TTL:PT1H
BEGIN:VTIMEZONE
TZID:America/New_York
BEGIN:DAYLIGHT
TZOFFSETFROM:-0500
TZOFFSETTO:-0400
TZNAME:EDT
DTSTART:20220313T070000
END:DAYLIGHT
BEGIN:STANDARD
TZOFFSETFROM:-0400
TZOFFSETTO:-0500
TZNAME:EST
DTSTART:20221106T060000
END:STANDARD
BEGIN:DAYLIGHT
TZOFFSETFROM:-0500
TZOFFSETTO:-0400
TZNAME:EDT
DTSTART:20230312T070000
END:DAYLIGHT
BEGIN:STANDARD
TZOFFSETFROM:-0400
TZOFFSETTO:-0500
TZNAME:EST
DTSTART:20231105T060000
END:STANDARD
BEGIN:DAYLIGHT
TZOFFSETFROM:-0500
TZOFFSETTO:-0400
TZNAME:EDT
DTSTART:20240310T070000
END:DAYLIGHT
BEGIN:STANDARD
TZOFFSETFROM:-0400
TZOFFSETTO:-0500
TZNAME:EST
DTSTART:20241103T060000
END:STANDARD
END:VTIMEZONE
BEGIN:VEVENT
DTSTART;TZID=America/New_York:20230501T120000
DTEND;TZID=America/New_York:20230501T131500
DTSTAMP:20260423T040208
CREATED:20230414T142243Z
LAST-MODIFIED:20230417T180122Z
UID:3768-1682942400-1682946900@thejoci.org
SUMMARY:JoC Professionals Network\, May 1st
DESCRIPTION:We invite JoC professionals in the greater New York Metropolitan area to join us on Zoom on May 1st\, 2023 for a virtual JoC Pro Network gathering. Kohenet Dr. Harriette Wimms will lead a workshop on Self-love\, Liberation\, and Preserving Yourself as a Jewish Leader of Color.   \n  \nWorkshop description: \nAs a Jewish Leader of Color\, your work revolves around caring for others. Yet\, how can we care for and love our neighbor as ourselves if we don’t love ourselves? This workshop will utilize text study\, psychological theory\, and accountability chavruta-pairing to help you develop a self-love practice that will enhance your leadership\, support collective liberation\, identify personalized pathways to self compassion\, and improve your relationship with yourself and others.  \n  \nWhen: Monday\, May 1st\, 12:00-1:15pm ET  \nWhere: Zoom. Register at https://bit.ly/JoCPro-May-virtual  \n  \nThe JoC Pro Network\, supported by UJA-Federation of New York\, is designed to enrich and support a pipeline of emerging talent by facilitating connections in and beyond the Jewish communal sector. To enrich and support a pipeline of emerging talent\, the Network will invite JoC working in other fields who have interest in exploring Jewish nonprofit opportunities. Our vision is to create an interconnected and richly interactive community of learning\, development\, and support through processing spaces\, social gatherings\, guest speakers\, and workshops.
URL:https://thejoci.org/event/joc-professionals-network-may-1st/
ATTACH;FMTTYPE=image/png:https://thejoci.org/wp-content/uploads/2023/04/JoC-PRO-NETWORK-May-1-email.png
END:VEVENT
END:VCALENDAR