BEGIN:VCALENDAR
VERSION:2.0
PRODID:-//Jews of Color Initiative - ECPv6.15.19//NONSGML v1.0//EN
CALSCALE:GREGORIAN
METHOD:PUBLISH
X-WR-CALNAME:Jews of Color Initiative
X-ORIGINAL-URL:https://thejoci.org
X-WR-CALDESC:Events for Jews of Color Initiative
REFRESH-INTERVAL;VALUE=DURATION:PT1H
X-Robots-Tag:noindex
X-PUBLISHED-TTL:PT1H
BEGIN:VTIMEZONE
TZID:America/Los_Angeles
BEGIN:DAYLIGHT
TZOFFSETFROM:-0800
TZOFFSETTO:-0700
TZNAME:PDT
DTSTART:20220313T100000
END:DAYLIGHT
BEGIN:STANDARD
TZOFFSETFROM:-0700
TZOFFSETTO:-0800
TZNAME:PST
DTSTART:20221106T090000
END:STANDARD
BEGIN:DAYLIGHT
TZOFFSETFROM:-0800
TZOFFSETTO:-0700
TZNAME:PDT
DTSTART:20230312T100000
END:DAYLIGHT
BEGIN:STANDARD
TZOFFSETFROM:-0700
TZOFFSETTO:-0800
TZNAME:PST
DTSTART:20231105T090000
END:STANDARD
BEGIN:DAYLIGHT
TZOFFSETFROM:-0800
TZOFFSETTO:-0700
TZNAME:PDT
DTSTART:20240310T100000
END:DAYLIGHT
BEGIN:STANDARD
TZOFFSETFROM:-0700
TZOFFSETTO:-0800
TZNAME:PST
DTSTART:20241103T090000
END:STANDARD
END:VTIMEZONE
BEGIN:VEVENT
DTSTART;TZID=America/Los_Angeles:20230719T170000
DTEND;TZID=America/Los_Angeles:20230719T190000
DTSTAMP:20260421T230748
CREATED:20230629T201915Z
LAST-MODIFIED:20230629T201915Z
UID:3953-1689786000-1689793200@thejoci.org
SUMMARY:Bay Area JoC Summer Gathering
DESCRIPTION:The Jews of Color Initiative invites JoC leaders and community members to a casual meet-up and networking event with other Bay Area JoCs— starting with drinks and apps on JoCI! \nYou must RSVP to attend this event. Please email Jade Groobman at jade@jewsofcolorinitiative.org to RSVP. \nWhen: Wednesday July 19th\, 5-7 pm PT \nWhere: Drake’s Dealership & Brewing Co. / 2325 Broadway\, Oakland\, 94612
URL:https://thejoci.org/event/bay-area-joc-summer-gathering/
ATTACH;FMTTYPE=image/png:https://thejoci.org/wp-content/uploads/2023/06/Summer-gathering-v2.png
END:VEVENT
END:VCALENDAR